BEGIN:VCALENDAR
VERSION:2.0
PRODID:-//Glenn Coaches - ECPv6.15.20//NONSGML v1.0//EN
CALSCALE:GREGORIAN
METHOD:PUBLISH
X-ORIGINAL-URL:https://glenncoaches.co.uk
X-WR-CALDESC:Events for Glenn Coaches
REFRESH-INTERVAL;VALUE=DURATION:PT1H
X-Robots-Tag:noindex
X-PUBLISHED-TTL:PT1H
BEGIN:VTIMEZONE
TZID:Europe/London
BEGIN:DAYLIGHT
TZOFFSETFROM:+0000
TZOFFSETTO:+0100
TZNAME:BST
DTSTART:20250330T010000
END:DAYLIGHT
BEGIN:STANDARD
TZOFFSETFROM:+0100
TZOFFSETTO:+0000
TZNAME:GMT
DTSTART:20251026T010000
END:STANDARD
BEGIN:DAYLIGHT
TZOFFSETFROM:+0000
TZOFFSETTO:+0100
TZNAME:BST
DTSTART:20260329T010000
END:DAYLIGHT
BEGIN:STANDARD
TZOFFSETFROM:+0100
TZOFFSETTO:+0000
TZNAME:GMT
DTSTART:20261025T010000
END:STANDARD
BEGIN:DAYLIGHT
TZOFFSETFROM:+0000
TZOFFSETTO:+0100
TZNAME:BST
DTSTART:20270328T010000
END:DAYLIGHT
BEGIN:STANDARD
TZOFFSETFROM:+0100
TZOFFSETTO:+0000
TZNAME:GMT
DTSTART:20271031T010000
END:STANDARD
END:VTIMEZONE
BEGIN:VEVENT
DTSTART;VALUE=DATE:20260604
DTEND;VALUE=DATE:20260608
DTSTAMP:20260423T220329
CREATED:20251108T094010Z
LAST-MODIFIED:20251108T100201Z
UID:1776-1780531200-1780876799@glenncoaches.co.uk
SUMMARY:Northumberland Castle & Coast Adventure - 4 days
DESCRIPTION:£450\n3 nights at the White Swan Hotel\, a lovely coaching inn situated in the centre of Alnwick. Excursions include Holy Island of Lindisfarne\, entry to Alnwick Castle & Gardens and Durham. \nDEPARTS:  First pickup 8am\nROUTE:  Pickup on request
URL:https://glenncoaches.co.uk/event/l/
CATEGORIES:Holidays
ATTACH;FMTTYPE=image/jpeg:https://glenncoaches.co.uk/wp-content/uploads/2020/07/download.jpg
END:VEVENT
BEGIN:VEVENT
DTSTART;VALUE=DATE:20260609
DTEND;VALUE=DATE:20260614
DTSTAMP:20260423T220329
CREATED:20220110T110851Z
LAST-MODIFIED:20251111T113742Z
UID:855-1780963200-1781395199@glenncoaches.co.uk
SUMMARY:Scottish Escape - 5 days
DESCRIPTION:£495 \n4 nights at the popular King Robert Hotel\, Stirling. Excursions include a cruise on Loch Lomond\, Edinborough Guided Tour on coach\, Royal Yacht Britannia\, Durham\, Alnwick. \nDEPARTS:  First pickup 8am\nROUTE:  Pickup on request
URL:https://glenncoaches.co.uk/event/scottish-escape-5-days/
CATEGORIES:Holidays
ATTACH;FMTTYPE=image/jpeg:https://glenncoaches.co.uk/wp-content/uploads/2019/06/Loch_Lomond_event_image.jpg
END:VEVENT
BEGIN:VEVENT
DTSTART;VALUE=DATE:20260621
DTEND;VALUE=DATE:20260624
DTSTAMP:20260423T220329
CREATED:20210301T141131Z
LAST-MODIFIED:20251108T102838Z
UID:675-1782000000-1782259199@glenncoaches.co.uk
SUMMARY:Historic Lincoln - 3 days
DESCRIPTION:£270 \n2 nights at the Holiday Inn Lincoln\, situated on the beautiful Brayford Harbour. Includes a guided tour on the coach\, Brigg Garden Centre and Hemswell Antiques Centre. \nDEPARTS:  First pickup 8am\nROUTE:  Pickup on request
URL:https://glenncoaches.co.uk/event/historic-lincoln-3-days/
CATEGORIES:Holidays
ATTACH;FMTTYPE=image/jpeg:https://glenncoaches.co.uk/wp-content/uploads/2021/03/Lincoln.jpg
END:VEVENT
BEGIN:VEVENT
DTSTART;VALUE=DATE:20260629
DTEND;VALUE=DATE:20260704
DTSTAMP:20260423T220329
CREATED:20251108T095416Z
LAST-MODIFIED:20251114T050136Z
UID:1779-1782691200-1783123199@glenncoaches.co.uk
SUMMARY:Warner Holme Lacy House\, Hereford - 5 days
DESCRIPTION:£530\n4 nights at this stunning hotel. Experience the grandeur of this Grade I listed Renaissance-style mansion\, steeped in history and culture . All Warner Resorts features extensive facilities\, dazzling live evening entertainment and a variety of complimentary activities throughout the day. Excursions include Hereford on market day and Abergavenny North Wales. \nDEPARTS:  First pickup 8am\nROUTE:  Pickup on request
URL:https://glenncoaches.co.uk/event/warner-holme-lacy-house-hereford-5-days/
CATEGORIES:Holidays
ATTACH;FMTTYPE=image/jpeg:https://glenncoaches.co.uk/wp-content/uploads/2025/11/holme-lacy.jpg
END:VEVENT
END:VCALENDAR