BEGIN:VCALENDAR
VERSION:2.0
PRODID:-//Glenn Coaches - ECPv6.15.20//NONSGML v1.0//EN
CALSCALE:GREGORIAN
METHOD:PUBLISH
X-WR-CALNAME:Glenn Coaches
X-ORIGINAL-URL:https://glenncoaches.co.uk
X-WR-CALDESC:Events for Glenn Coaches
REFRESH-INTERVAL;VALUE=DURATION:PT1H
X-Robots-Tag:noindex
X-PUBLISHED-TTL:PT1H
BEGIN:VTIMEZONE
TZID:Europe/London
BEGIN:DAYLIGHT
TZOFFSETFROM:+0000
TZOFFSETTO:+0100
TZNAME:BST
DTSTART:20210328T010000
END:DAYLIGHT
BEGIN:STANDARD
TZOFFSETFROM:+0100
TZOFFSETTO:+0000
TZNAME:GMT
DTSTART:20211031T010000
END:STANDARD
BEGIN:DAYLIGHT
TZOFFSETFROM:+0000
TZOFFSETTO:+0100
TZNAME:BST
DTSTART:20220327T010000
END:DAYLIGHT
BEGIN:STANDARD
TZOFFSETFROM:+0100
TZOFFSETTO:+0000
TZNAME:GMT
DTSTART:20221030T010000
END:STANDARD
BEGIN:DAYLIGHT
TZOFFSETFROM:+0000
TZOFFSETTO:+0100
TZNAME:BST
DTSTART:20230326T010000
END:DAYLIGHT
BEGIN:STANDARD
TZOFFSETFROM:+0100
TZOFFSETTO:+0000
TZNAME:GMT
DTSTART:20231029T010000
END:STANDARD
END:VTIMEZONE
BEGIN:VEVENT
DTSTART;VALUE=DATE:20220507
DTEND;VALUE=DATE:20220508
DTSTAMP:20260424T073939
CREATED:20190208T052930Z
LAST-MODIFIED:20220413T155845Z
UID:410-1651881600-1651967999@glenncoaches.co.uk
SUMMARY:Scunthorpe Market and Brigg Garden Centre
DESCRIPTION:£18 per person\nDEPARTS:  Wigginton – 8:55am\nROUTE:  Wigginton – Haxby – Huntington – Haxby Road – York Station – Acomb \n 
URL:https://glenncoaches.co.uk/event/scunthorpe_market_and_brigg_garden_centre/
CATEGORIES:Excursions
ATTACH;FMTTYPE=image/jpeg:https://glenncoaches.co.uk/wp-content/uploads/2020/02/Private_Hre.jpg
END:VEVENT
END:VCALENDAR