BEGIN:VCALENDAR
VERSION:2.0
PRODID:-//Glenn Coaches - ECPv6.15.20//NONSGML v1.0//EN
CALSCALE:GREGORIAN
METHOD:PUBLISH
X-WR-CALNAME:Glenn Coaches
X-ORIGINAL-URL:https://glenncoaches.co.uk
X-WR-CALDESC:Events for Glenn Coaches
REFRESH-INTERVAL;VALUE=DURATION:PT1H
X-Robots-Tag:noindex
X-PUBLISHED-TTL:PT1H
BEGIN:VTIMEZONE
TZID:Europe/London
BEGIN:DAYLIGHT
TZOFFSETFROM:+0000
TZOFFSETTO:+0100
TZNAME:BST
DTSTART:20250330T010000
END:DAYLIGHT
BEGIN:STANDARD
TZOFFSETFROM:+0100
TZOFFSETTO:+0000
TZNAME:GMT
DTSTART:20251026T010000
END:STANDARD
BEGIN:DAYLIGHT
TZOFFSETFROM:+0000
TZOFFSETTO:+0100
TZNAME:BST
DTSTART:20260329T010000
END:DAYLIGHT
BEGIN:STANDARD
TZOFFSETFROM:+0100
TZOFFSETTO:+0000
TZNAME:GMT
DTSTART:20261025T010000
END:STANDARD
BEGIN:DAYLIGHT
TZOFFSETFROM:+0000
TZOFFSETTO:+0100
TZNAME:BST
DTSTART:20270328T010000
END:DAYLIGHT
BEGIN:STANDARD
TZOFFSETFROM:+0100
TZOFFSETTO:+0000
TZNAME:GMT
DTSTART:20271031T010000
END:STANDARD
END:VTIMEZONE
BEGIN:VEVENT
DTSTART;VALUE=DATE:20260801
DTEND;VALUE=DATE:20260802
DTSTAMP:20260422T144433
CREATED:20260412T134134Z
LAST-MODIFIED:20260412T134134Z
UID:1962-1785542400-1785628799@glenncoaches.co.uk
SUMMARY:Alnwick Gardens Northumberland
DESCRIPTION:£37  \nIncludes Admission \nDEPARTS:  Wigginton – 8:55am\nROUTE:  Wigginton – Haxby – Huntington – Haxby Road – York Station – Acomb
URL:https://glenncoaches.co.uk/event/alnwick-gardens-northumberland/
CATEGORIES:Excursions
ATTACH;FMTTYPE=image/jpeg:https://glenncoaches.co.uk/wp-content/uploads/2026/04/alnwick-gardens.jpg
END:VEVENT
BEGIN:VEVENT
DTSTART;VALUE=DATE:20260808
DTEND;VALUE=DATE:20260809
DTSTAMP:20260422T144433
CREATED:20250518T062215Z
LAST-MODIFIED:20260412T131803Z
UID:1602-1786147200-1786233599@glenncoaches.co.uk
SUMMARY:Blackpool Military Air Show
DESCRIPTION:£28\nDEPARTS:  Wigginton – 8:55am\nROUTE:  Wigginton – Haxby – Huntington – Haxby Road – York Station – Acomb \n 
URL:https://glenncoaches.co.uk/event/blackpool-military-air-show/
CATEGORIES:Excursions
ATTACH;FMTTYPE=image/jpeg:https://glenncoaches.co.uk/wp-content/uploads/2020/02/Blackpool.jpg
END:VEVENT
BEGIN:VEVENT
DTSTART;VALUE=DATE:20260815
DTEND;VALUE=DATE:20260816
DTSTAMP:20260422T144433
CREATED:20260412T133354Z
LAST-MODIFIED:20260412T135420Z
UID:1957-1786752000-1786838399@glenncoaches.co.uk
SUMMARY:Yorkshire Wildlife Park
DESCRIPTION:£39\nIncludes admission \nDEPARTS:  Wigginton – 8:55am\nROUTE:  Wigginton – Haxby – Huntington – Haxby Road – York Station – Acomb
URL:https://glenncoaches.co.uk/event/yorkshire-wildlife-park/
CATEGORIES:Excursions
ATTACH;FMTTYPE=image/jpeg:https://glenncoaches.co.uk/wp-content/uploads/2026/04/yorks-wildlife-park.jpg
END:VEVENT
BEGIN:VEVENT
DTSTART;VALUE=DATE:20260820
DTEND;VALUE=DATE:20260821
DTSTAMP:20260422T144433
CREATED:20200217T080503Z
LAST-MODIFIED:20260412T133505Z
UID:461-1787184000-1787270399@glenncoaches.co.uk
SUMMARY:Salford Quays
DESCRIPTION:£23\nWith the opportunity to visit the free Lowry Museum & Imperial War Museum North \nDEPARTS:  Wigginton – 8:55am\nROUTE:  Wigginton – Haxby – Huntington – Haxby Road – York Station – Acomb
URL:https://glenncoaches.co.uk/event/salford-quays/
CATEGORIES:Excursions
ATTACH;FMTTYPE=image/jpeg:https://glenncoaches.co.uk/wp-content/uploads/2020/02/Private_Hre.jpg
END:VEVENT
BEGIN:VEVENT
DTSTART;VALUE=DATE:20260822
DTEND;VALUE=DATE:20260823
DTSTAMP:20260422T144433
CREATED:20230810T084324Z
LAST-MODIFIED:20260412T133626Z
UID:1206-1787356800-1787443199@glenncoaches.co.uk
SUMMARY:Beverley on Farmers Market Day
DESCRIPTION:£21 \nDEPARTS:  Wigginton – 8:55am\nROUTE:  Wigginton – Haxby – Huntington – Haxby Road – York Station – Acomb \n 
URL:https://glenncoaches.co.uk/event/beverley-on-farmers-market-day/
CATEGORIES:Excursions
ATTACH;FMTTYPE=image/jpeg:https://glenncoaches.co.uk/wp-content/uploads/2020/07/Fruit-basket.jpeg
END:VEVENT
BEGIN:VEVENT
DTSTART;VALUE=DATE:20260825
DTEND;VALUE=DATE:20260826
DTSTAMP:20260422T144433
CREATED:20260412T134938Z
LAST-MODIFIED:20260412T135244Z
UID:1966-1787616000-1787702399@glenncoaches.co.uk
SUMMARY:Critch Tramway Villge - National Tramway Museum
DESCRIPTION:£39  \nIncludes admission \nDEPARTS:  Wigginton – 8:55am\nROUTE:  Wigginton – Haxby – Huntington – Haxby Road – York Station – Acomb
URL:https://glenncoaches.co.uk/event/critch-tramway-villge-national-tramway-museum/
CATEGORIES:Excursions
ATTACH;FMTTYPE=image/jpeg:https://glenncoaches.co.uk/wp-content/uploads/2026/04/Critch-tram.jpg
END:VEVENT
BEGIN:VEVENT
DTSTART;VALUE=DATE:20260828
DTEND;VALUE=DATE:20260829
DTSTAMP:20260422T144433
CREATED:20200217T092540Z
LAST-MODIFIED:20260412T140922Z
UID:464-1787875200-1787961599@glenncoaches.co.uk
SUMMARY:Afternoon Tea Cruise from Skipton on the Leeds/Liverpool Canal
DESCRIPTION:£48 \nDEPARTS:  Wigginton – 8:55am\nROUTE:  Wigginton – Haxby – Huntington – Haxby Road – York Station – Acomb
URL:https://glenncoaches.co.uk/event/afternoon-tea-cruise-from-skipton-on-the-leeds-liverpool-canal/
CATEGORIES:Excursions
ATTACH;FMTTYPE=image/jpeg:https://glenncoaches.co.uk/wp-content/uploads/2026/04/skipton-t-cruise.jpg
END:VEVENT
END:VCALENDAR